BEGIN:VCALENDAR
VERSION:2.0
PRODID:-//StreamRadar//Match Calendar//EN
CALSCALE:GREGORIAN
METHOD:PUBLISH
X-WR-CALNAME:Usa U20 W vs Brazil U20 W
X-WR-TIMEZONE:America/New_York
BEGIN:VEVENT
UID:match-5613109@streamradar.soccer
SUMMARY:Usa U20 W vs Brazil U20 W
DTSTAMP:20260421T152219Z
DTSTART;TZID=America/New_York:20260415T150000
DTEND;TZID=America/New_York:20260415T170000
DESCRIPTION:Где смотреть Usa  W до 20 – Brazil  W до 20 в
  турнире Международный женский товарище
 кий матч. Прямая трансляция и телепрогра
 мма.\nhttps://streamradar.soccer/ru/match/5613109/usa-u20-w-vs-brazil-u2
 0-w/
URL;VALUE=URI:https://streamradar.soccer/ru/match/5613109/usa-u20-w-vs-braz
 il-u20-w/
STATUS:CONFIRMED
END:VEVENT
END:VCALENDAR
