BEGIN:VCALENDAR
VERSION:2.0
PRODID:-//StreamRadar//Match Calendar//EN
CALSCALE:GREGORIAN
METHOD:PUBLISH
X-WR-CALNAME:FC Santiago vs Zacatepec
X-WR-TIMEZONE:America/New_York
BEGIN:VEVENT
UID:match-5613104@streamradar.soccer
SUMMARY:FC Santiago vs Zacatepec
DTSTAMP:20260421T092854Z
DTSTART;TZID=America/New_York:20260418T160000
DTEND;TZID=America/New_York:20260418T180000
LOCATION:Cancha Vicente Guerrero (Cuautepec)
DESCRIPTION:Где смотреть FC Santiago – Сакатепек в 
 урнире Мексика - Liga MX. Прямая трансляция 
  телепрограмма.\nhttps://streamradar.soccer/ru/match/5613104/
 fc-santiago-vs-zacatepec/
URL;VALUE=URI:https://streamradar.soccer/ru/match/5613104/fc-santiago-vs-za
 catepec/
STATUS:CONFIRMED
END:VEVENT
END:VCALENDAR
