BEGIN:VCALENDAR
VERSION:2.0
PRODID:-//StreamRadar//Match Calendar//EN
CALSCALE:GREGORIAN
METHOD:PUBLISH
X-WR-CALNAME:Tapachula vs Tritons Vallarta
X-WR-TIMEZONE:America/New_York
BEGIN:VEVENT
UID:match-5613102@streamradar.soccer
SUMMARY:Tapachula vs Tritons Vallarta
DTSTAMP:20260421T080746Z
DTSTART;TZID=America/New_York:20260418T160000
DTEND;TZID=America/New_York:20260418T180000
LOCATION:Estadio Olímpico de Tapachula (Tapachula)
DESCRIPTION:Где смотреть Tapachula – Tritons Vallarta в ту
 нире Мексика - Liga MX. Прямая трансляция и т
 елепрограмма.\nhttps://streamradar.soccer/ru/match/5613102/tapa
 chula-vs-tritons-vallarta/
URL;VALUE=URI:https://streamradar.soccer/ru/match/5613102/tapachula-vs-trit
 ons-vallarta/
STATUS:CONFIRMED
END:VEVENT
END:VCALENDAR
