BEGIN:VCALENDAR
VERSION:2.0
PRODID:-//StreamRadar//Match Calendar//EN
CALSCALE:GREGORIAN
METHOD:PUBLISH
X-WR-CALNAME:Deportiva Venados vs Calor
X-WR-TIMEZONE:America/New_York
BEGIN:VEVENT
UID:match-5613096@streamradar.soccer
SUMMARY:Deportiva Venados vs Calor
DTSTAMP:20260421T092523Z
DTSTART;TZID=America/New_York:20260418T160000
DTEND;TZID=America/New_York:20260418T180000
LOCATION:Estadio Alfonso Diego Molina (Tamanché)
DESCRIPTION:Где смотреть Deportiva Venados – Calor в турн
 ире Мексика - Liga MX. Прямая трансляция и те
 епрограмма.\nhttps://streamradar.soccer/ru/match/5613096/deporti
 va-venados-vs-calor/
URL;VALUE=URI:https://streamradar.soccer/ru/match/5613096/deportiva-venados
 -vs-calor/
STATUS:CONFIRMED
END:VEVENT
END:VCALENDAR
