BEGIN:VCALENDAR
VERSION:2.0
PRODID:-//StreamRadar//Match Calendar//EN
CALSCALE:GREGORIAN
METHOD:PUBLISH
X-WR-CALNAME:Mbeya City vs Coastal Union
X-WR-TIMEZONE:America/New_York
BEGIN:VEVENT
UID:match-5613085@streamradar.soccer
SUMMARY:Mbeya City vs Coastal Union
DTSTAMP:20260421T080815Z
DTSTART;TZID=America/New_York:20260513T070000
DTEND;TZID=America/New_York:20260513T090000
LOCATION:Sokoine Stadium
DESCRIPTION:Где смотреть Mbeya City – Coastal Union в тур
 ире Tanzania Premier League. Прямая трансляция и те
 епрограмма.\nhttps://streamradar.soccer/ru/match/5613085/mbeya-c
 ity-vs-coastal-union/
URL;VALUE=URI:https://streamradar.soccer/ru/match/5613085/mbeya-city-vs-coa
 stal-union/
STATUS:CONFIRMED
END:VEVENT
END:VCALENDAR
