BEGIN:VCALENDAR
VERSION:2.0
PRODID:-//StreamRadar//Match Calendar//EN
CALSCALE:GREGORIAN
METHOD:PUBLISH
X-WR-CALNAME:Stjarnan vs KR
X-WR-TIMEZONE:America/New_York
BEGIN:VEVENT
UID:match-5613079@streamradar.soccer
SUMMARY:Stjarnan vs KR
DTSTAMP:20260421T102048Z
DTSTART;TZID=America/New_York:20260513T160000
DTEND;TZID=America/New_York:20260513T180000
DESCRIPTION:Где смотреть Стьярнан – КР в турни
 ре Mjólkurbikarinn. Прямая трансляция и телепро
 рамма.\nhttps://streamradar.soccer/ru/match/5613079/stjarnan-vs-kr/
URL;VALUE=URI:https://streamradar.soccer/ru/match/5613079/stjarnan-vs-kr/
STATUS:CONFIRMED
END:VEVENT
END:VCALENDAR
