BEGIN:VCALENDAR
VERSION:2.0
PRODID:-//StreamRadar//Match Calendar//EN
CALSCALE:GREGORIAN
METHOD:PUBLISH
X-WR-CALNAME:Al Mosul vs Naft
X-WR-TIMEZONE:America/New_York
BEGIN:VEVENT
UID:match-5613059@streamradar.soccer
SUMMARY:Al Mosul vs Naft
DTSTAMP:20260421T071514Z
DTSTART;TZID=America/New_York:20260422T100000
DTEND;TZID=America/New_York:20260422T120000
LOCATION:Mosul University Stadium (Mosul)
DESCRIPTION:Где смотреть Al Mosul – Нафут в турнир
 е Иракская Премьер-лига. Прямая трансляц
 я и телепрограмма.\nhttps://streamradar.soccer/ru/match/561
 3059/al-mosul-vs-naft/
URL;VALUE=URI:https://streamradar.soccer/ru/match/5613059/al-mosul-vs-naft/
STATUS:CONFIRMED
END:VEVENT
END:VCALENDAR
