BEGIN:VCALENDAR
VERSION:2.0
PRODID:-//StreamRadar//Match Calendar//EN
CALSCALE:GREGORIAN
METHOD:PUBLISH
X-WR-CALNAME:Rangers vs Hibernian
X-WR-TIMEZONE:America/New_York
BEGIN:VEVENT
UID:match-5613001@streamradar.soccer
SUMMARY:Rangers vs Hibernian
DTSTAMP:20260421T062337Z
DTSTART;TZID=America/New_York:20260513T150000
DTEND;TZID=America/New_York:20260513T170000
LOCATION:Ibrox Stadium
DESCRIPTION:Где смотреть Рейнджерс – Хиберниа
 н в турнире Шотландская Премьер-лига. Пря
 мая трансляция и телепрограмма.\nhttps://streamr
 adar.soccer/ru/match/5613001/rangers-vs-hibernian/
URL;VALUE=URI:https://streamradar.soccer/ru/match/5613001/rangers-vs-hibern
 ian/
STATUS:CONFIRMED
END:VEVENT
END:VCALENDAR
