BEGIN:VCALENDAR
VERSION:2.0
PRODID:-//StreamRadar//Match Calendar//EN
CALSCALE:GREGORIAN
METHOD:PUBLISH
X-WR-CALNAME:USGN vs Douanes Niamey
X-WR-TIMEZONE:America/New_York
BEGIN:VEVENT
UID:match-5612995@streamradar.soccer
SUMMARY:USGN vs Douanes Niamey
DTSTAMP:20260421T122616Z
DTSTART;TZID=America/New_York:20260415T110000
DTEND;TZID=America/New_York:20260415T130000
LOCATION:Stade Général Seyni Kountché (Niamey)
DESCRIPTION:Где смотреть USGN – Douanes Niamey в турнир
 е Нигер - Super Ligue. Прямая трансляция и теле
 рограмма.\nhttps://streamradar.soccer/ru/match/5612995/usgn-vs-dou
 anes-niamey/
URL;VALUE=URI:https://streamradar.soccer/ru/match/5612995/usgn-vs-douanes-n
 iamey/
STATUS:CONFIRMED
END:VEVENT
END:VCALENDAR
