BEGIN:VCALENDAR
VERSION:2.0
PRODID:-//StreamRadar//Match Calendar//EN
CALSCALE:GREGORIAN
METHOD:PUBLISH
X-WR-CALNAME:Tahoua vs Sahel
X-WR-TIMEZONE:America/New_York
BEGIN:VEVENT
UID:match-5612993@streamradar.soccer
SUMMARY:Tahoua vs Sahel
DTSTAMP:20260421T133450Z
DTSTART;TZID=America/New_York:20260415T110000
DTEND;TZID=America/New_York:20260415T130000
DESCRIPTION:Где смотреть Tahoua – Sahel в турнире Ни
 гер - Super Ligue. Прямая трансляция и телепрог
 рамма.\nhttps://streamradar.soccer/ru/match/5612993/tahoua-vs-sahel/
URL;VALUE=URI:https://streamradar.soccer/ru/match/5612993/tahoua-vs-sahel/
STATUS:CONFIRMED
END:VEVENT
END:VCALENDAR
