BEGIN:VCALENDAR
VERSION:2.0
PRODID:-//StreamRadar//Match Calendar//EN
CALSCALE:GREGORIAN
METHOD:PUBLISH
X-WR-CALNAME:AB vs Næstved
X-WR-TIMEZONE:America/New_York
BEGIN:VEVENT
UID:match-5612725@streamradar.soccer
SUMMARY:AB vs Næstved
DTSTAMP:20260421T054712Z
DTSTART;TZID=America/New_York:20260424T130000
DTEND;TZID=America/New_York:20260424T150000
LOCATION:Gladsaxe Stadion (Søborg)
DESCRIPTION:Где смотреть АБ – Нэствед в турнир
 е Дания - 2-й дивизион. Прямая трансляция и
  телепрограмма.\nhttps://streamradar.soccer/ru/match/5612725/a
 b-vs-nastved/
URL;VALUE=URI:https://streamradar.soccer/ru/match/5612725/ab-vs-nastved/
STATUS:CONFIRMED
END:VEVENT
END:VCALENDAR
