BEGIN:VCALENDAR
VERSION:2.0
PRODID:-//StreamRadar//Match Calendar//EN
CALSCALE:GREGORIAN
METHOD:PUBLISH
X-WR-CALNAME:Koblenz vs Kaiserslautern II
X-WR-TIMEZONE:America/New_York
BEGIN:VEVENT
UID:match-5612666@streamradar.soccer
SUMMARY:Koblenz vs Kaiserslautern II
DTSTAMP:20260421T080813Z
DTSTART;TZID=America/New_York:20260512T130000
DTEND;TZID=America/New_York:20260512T150000
DESCRIPTION:Где смотреть Koblenz – Kaiserslautern II в тур
 нире Германия - Оберлига. Прямая трансляц
 ия и телепрограмма.\nhttps://streamradar.soccer/ru/match/56
 12666/koblenz-vs-kaiserslautern-ii/
URL;VALUE=URI:https://streamradar.soccer/ru/match/5612666/koblenz-vs-kaiser
 slautern-ii/
STATUS:CONFIRMED
END:VEVENT
END:VCALENDAR
