BEGIN:VCALENDAR
VERSION:2.0
PRODID:-//StreamRadar//Match Calendar//EN
CALSCALE:GREGORIAN
METHOD:PUBLISH
X-WR-CALNAME:Tabora United vs JKT Tanzania
X-WR-TIMEZONE:America/New_York
BEGIN:VEVENT
UID:match-5612664@streamradar.soccer
SUMMARY:Tabora United vs JKT Tanzania
DTSTAMP:20260421T080830Z
DTSTART;TZID=America/New_York:20260512T091500
DTEND;TZID=America/New_York:20260512T111500
LOCATION:Ali Hassan Mwinyi Stadium
DESCRIPTION:Где смотреть Tabora United – JKT Tanzania в ту
 нире Tanzania Premier League. Прямая трансляция и т
 лепрограмма.\nhttps://streamradar.soccer/ru/match/5612664/tabor
 a-united-vs-jkt-tanzania/
URL;VALUE=URI:https://streamradar.soccer/ru/match/5612664/tabora-united-vs-
 jkt-tanzania/
STATUS:CONFIRMED
END:VEVENT
END:VCALENDAR
