BEGIN:VCALENDAR
VERSION:2.0
PRODID:-//StreamRadar//Match Calendar//EN
CALSCALE:GREGORIAN
METHOD:PUBLISH
X-WR-CALNAME:Al Shabab vs Saham
X-WR-TIMEZONE:America/New_York
BEGIN:VEVENT
UID:match-5612656@streamradar.soccer
SUMMARY:Al Shabab vs Saham
DTSTAMP:20260421T062321Z
DTSTART;TZID=America/New_York:20260430T122000
DTEND;TZID=America/New_York:20260430T142000
DESCRIPTION:Где смотреть Альшабаб – Сахам в ту
 рнире Оманская лига. Прямая трансляция и 
 телепрограмма.\nhttps://streamradar.soccer/ru/match/5612656/al
 -shabab-vs-saham/
URL;VALUE=URI:https://streamradar.soccer/ru/match/5612656/al-shabab-vs-saha
 m/
STATUS:CONFIRMED
END:VEVENT
END:VCALENDAR
