BEGIN:VCALENDAR
VERSION:2.0
PRODID:-//StreamRadar//Match Calendar//EN
CALSCALE:GREGORIAN
METHOD:PUBLISH
X-WR-CALNAME:Aberdeen vs St. Mirren
X-WR-TIMEZONE:America/New_York
BEGIN:VEVENT
UID:match-5612629@streamradar.soccer
SUMMARY:Aberdeen vs St. Mirren
DTSTAMP:20260421T062219Z
DTSTART;TZID=America/New_York:20260512T144500
DTEND;TZID=America/New_York:20260512T164500
LOCATION:Pittodrie Stadium
DESCRIPTION:Где смотреть Абердин – Сент-Мирре
  в турнире Шотландская Премьер-лига. Пря
 ая трансляция и телепрограмма.\nhttps://streamra
 dar.soccer/ru/match/5612629/aberdeen-vs-st-mirren/
URL;VALUE=URI:https://streamradar.soccer/ru/match/5612629/aberdeen-vs-st-mi
 rren/
STATUS:CONFIRMED
END:VEVENT
END:VCALENDAR
