BEGIN:VCALENDAR
VERSION:2.0
PRODID:-//StreamRadar//Match Calendar//EN
CALSCALE:GREGORIAN
METHOD:PUBLISH
X-WR-CALNAME:Swieqi United vs Fgura United
X-WR-TIMEZONE:America/New_York
BEGIN:VEVENT
UID:match-5612318@streamradar.soccer
SUMMARY:Swieqi United vs Fgura United
DTSTAMP:20260421T105012Z
DTSTART;TZID=America/New_York:20260419T084500
DTEND;TZID=America/New_York:20260419T104500
LOCATION:Centenary Stadium
DESCRIPTION:Где смотреть Swieqi United – Fgura United в ту
 нире Мальта - Challenge League. Прямая трансляци
  и телепрограмма.\nhttps://streamradar.soccer/ru/match/56123
 18/swieqi-united-vs-fgura-united/
URL;VALUE=URI:https://streamradar.soccer/ru/match/5612318/swieqi-united-vs-
 fgura-united/
STATUS:CONFIRMED
END:VEVENT
END:VCALENDAR
