BEGIN:VCALENDAR
VERSION:2.0
PRODID:-//StreamRadar//Match Calendar//EN
CALSCALE:GREGORIAN
METHOD:PUBLISH
X-WR-CALNAME:Zurrieq vs Mgarr United
X-WR-TIMEZONE:America/New_York
BEGIN:VEVENT
UID:match-5612314@streamradar.soccer
SUMMARY:Zurrieq vs Mgarr United
DTSTAMP:20260421T092358Z
DTSTART;TZID=America/New_York:20260418T131500
DTEND;TZID=America/New_York:20260418T151500
LOCATION:Victor Tedesco Stadium
DESCRIPTION:Где смотреть Zurrieq – Mgarr United в турни
 е Мальта - Challenge League. Прямая трансляция и 
 елепрограмма.\nhttps://streamradar.soccer/ru/match/5612314/zur
 rieq-vs-mgarr-united/
URL;VALUE=URI:https://streamradar.soccer/ru/match/5612314/zurrieq-vs-mgarr-
 united/
STATUS:CONFIRMED
END:VEVENT
END:VCALENDAR
