BEGIN:VCALENDAR
VERSION:2.0
PRODID:-//StreamRadar//Match Calendar//EN
CALSCALE:GREGORIAN
METHOD:PUBLISH
X-WR-CALNAME:Zebbug Rangers vs Marsa
X-WR-TIMEZONE:America/New_York
BEGIN:VEVENT
UID:match-5612313@streamradar.soccer
SUMMARY:Zebbug Rangers vs Marsa
DTSTAMP:20260421T092850Z
DTSTART;TZID=America/New_York:20260418T103000
DTEND;TZID=America/New_York:20260418T123000
LOCATION:Victor Tedesco Stadium
DESCRIPTION:Где смотреть Zebbug Rangers – Marsa в турни
 е Мальта - Challenge League. Прямая трансляция и 
 елепрограмма.\nhttps://streamradar.soccer/ru/match/5612313/zeb
 bug-rangers-vs-marsa/
URL;VALUE=URI:https://streamradar.soccer/ru/match/5612313/zebbug-rangers-vs
 -marsa/
STATUS:CONFIRMED
END:VEVENT
END:VCALENDAR
