BEGIN:VCALENDAR
VERSION:2.0
PRODID:-//StreamRadar//Match Calendar//EN
CALSCALE:GREGORIAN
METHOD:PUBLISH
X-WR-CALNAME:Russia vs Russia U19
X-WR-TIMEZONE:America/New_York
BEGIN:VEVENT
UID:match-5612262@streamradar.soccer
SUMMARY:Russia vs Russia U19
DTSTAMP:20260421T144501Z
DTSTART;TZID=America/New_York:20260414T080000
DTEND;TZID=America/New_York:20260414T100000
DESCRIPTION:Где смотреть Россия – Россия до 19 
  турнире Международный женский товарище
 ский матч. Прямая трансляция и телепрогр
 мма.\nhttps://streamradar.soccer/ru/match/5612262/russia-vs-russia-u19/
URL;VALUE=URI:https://streamradar.soccer/ru/match/5612262/russia-vs-russia-
 u19/
STATUS:CONFIRMED
END:VEVENT
END:VCALENDAR
