BEGIN:VCALENDAR
VERSION:2.0
PRODID:-//StreamRadar//Match Calendar//EN
CALSCALE:GREGORIAN
METHOD:PUBLISH
X-WR-CALNAME:Kariba vs Bulawayo Chiefs
X-WR-TIMEZONE:America/New_York
BEGIN:VEVENT
UID:match-5612243@streamradar.soccer
SUMMARY:Kariba vs Bulawayo Chiefs
DTSTAMP:20260421T080728Z
DTSTART;TZID=America/New_York:20260422T090000
DTEND;TZID=America/New_York:20260422T110000
LOCATION:Nyamhunga Stadium (Kariba)
DESCRIPTION:Где смотреть Kariba – Bulawayo Chiefs в турн
 ре Зимбабве - Premier Soccer League. Прямая трансля
 ция и телепрограмма.\nhttps://streamradar.soccer/ru/match/
 5612243/kariba-vs-bulawayo-chiefs/
URL;VALUE=URI:https://streamradar.soccer/ru/match/5612243/kariba-vs-bulaway
 o-chiefs/
STATUS:CONFIRMED
END:VEVENT
END:VCALENDAR
