BEGIN:VCALENDAR
VERSION:2.0
PRODID:-//StreamRadar//Match Calendar//EN
CALSCALE:GREGORIAN
METHOD:PUBLISH
X-WR-CALNAME:Agama vs Simba Bhora
X-WR-TIMEZONE:America/New_York
BEGIN:VEVENT
UID:match-5612236@streamradar.soccer
SUMMARY:Agama vs Simba Bhora
DTSTAMP:20260421T075837Z
DTSTART;TZID=America/New_York:20260419T090000
DTEND;TZID=America/New_York:20260419T110000
DESCRIPTION:Где смотреть Agama – Simba Bhora в турнире
  Зимбабве - Premier Soccer League. Прямая трансляци
  и телепрограмма.\nhttps://streamradar.soccer/ru/match/56122
 36/agama-vs-simba-bhora/
URL;VALUE=URI:https://streamradar.soccer/ru/match/5612236/agama-vs-simba-bh
 ora/
STATUS:CONFIRMED
END:VEVENT
END:VCALENDAR
