BEGIN:VCALENDAR
VERSION:2.0
PRODID:-//StreamRadar//Match Calendar//EN
CALSCALE:GREGORIAN
METHOD:PUBLISH
X-WR-CALNAME:Herentals vs Hunters
X-WR-TIMEZONE:America/New_York
BEGIN:VEVENT
UID:match-5612235@streamradar.soccer
SUMMARY:Herentals vs Hunters
DTSTAMP:20260421T091828Z
DTSTART;TZID=America/New_York:20260418T090000
DTEND;TZID=America/New_York:20260418T110000
DESCRIPTION:Где смотреть Herentals – Hunters в турнире
  Зимбабве - Premier Soccer League. Прямая трансляци
  и телепрограмма.\nhttps://streamradar.soccer/ru/match/56122
 35/herentals-vs-hunters/
URL;VALUE=URI:https://streamradar.soccer/ru/match/5612235/herentals-vs-hunt
 ers/
STATUS:CONFIRMED
END:VEVENT
END:VCALENDAR
