BEGIN:VCALENDAR
VERSION:2.0
PRODID:-//StreamRadar//Match Calendar//EN
CALSCALE:GREGORIAN
METHOD:PUBLISH
X-WR-CALNAME:KAMAZ vs Spartak Kostroma
X-WR-TIMEZONE:America/New_York
BEGIN:VEVENT
UID:match-5612221@streamradar.soccer
SUMMARY:KAMAZ vs Spartak Kostroma
DTSTAMP:20260421T084327Z
DTSTART;TZID=America/New_York:20260501T073000
DTEND;TZID=America/New_York:20260501T093000
LOCATION:KAMAZ Stadium
DESCRIPTION:Где смотреть КАМАЗ  – Спартак Кос
 рома в турнире Россия - ФНЛ. Прямая транс
 яция и телепрограмма.\nhttps://streamradar.soccer/ru/mat
 ch/5612221/kamaz-vs-spartak-kostroma/
URL;VALUE=URI:https://streamradar.soccer/ru/match/5612221/kamaz-vs-spartak-
 kostroma/
STATUS:CONFIRMED
END:VEVENT
END:VCALENDAR
