BEGIN:VCALENDAR
VERSION:2.0
PRODID:-//StreamRadar//Match Calendar//EN
CALSCALE:GREGORIAN
METHOD:PUBLISH
X-WR-CALNAME:Saturn Ramenskoye vs Strogino
X-WR-TIMEZONE:America/New_York
BEGIN:VEVENT
UID:match-5611582@streamradar.soccer
SUMMARY:Saturn Ramenskoye vs Strogino
DTSTAMP:20260422T124056Z
DTSTART;TZID=America/New_York:20260510T090000
DTEND;TZID=America/New_York:20260510T110000
DESCRIPTION:Где смотреть Сатурн Ра́менское – 
 трогино в турнире Россия - Вторая Лига Ро
 ссии. Прямая трансляция и телепрограмма.\
 nhttps://streamradar.soccer/ru/match/5611582/saturn-ramenskoye-vs-strogino/
URL;VALUE=URI:https://streamradar.soccer/ru/match/5611582/saturn-ramenskoye
 -vs-strogino/
STATUS:CONFIRMED
END:VEVENT
END:VCALENDAR
