BEGIN:VCALENDAR
VERSION:2.0
PRODID:-//StreamRadar//Match Calendar//EN
CALSCALE:GREGORIAN
METHOD:PUBLISH
X-WR-CALNAME:San Martín Mendoza vs Fundacion Amigos
X-WR-TIMEZONE:America/New_York
BEGIN:VEVENT
UID:match-5611502@streamradar.soccer
SUMMARY:San Martín Mendoza vs Fundacion Amigos
DTSTAMP:20260421T120526Z
DTSTART;TZID=America/New_York:20260510T160000
DTEND;TZID=America/New_York:20260510T180000
LOCATION:Estadio General Jose de San Martin
DESCRIPTION:Где смотреть San Martín Mendoza – Fundacion Amigo
 s в турнире Torneo Federal A. Прямая трансляция и 
 телепрограмма.\nhttps://streamradar.soccer/ru/match/5611502/sa
 n-martin-mendoza-vs-fundacion-amigos/
URL;VALUE=URI:https://streamradar.soccer/ru/match/5611502/san-martin-mendoz
 a-vs-fundacion-amigos/
STATUS:CONFIRMED
END:VEVENT
END:VCALENDAR
