BEGIN:VCALENDAR
VERSION:2.0
PRODID:-//StreamRadar//Match Calendar//EN
CALSCALE:GREGORIAN
METHOD:PUBLISH
X-WR-CALNAME:Tusker vs Bidco United
X-WR-TIMEZONE:America/New_York
BEGIN:VEVENT
UID:match-5611456@streamradar.soccer
SUMMARY:Tusker vs Bidco United
DTSTAMP:20260421T042153Z
DTSTART;TZID=America/New_York:20260510T070000
DTEND;TZID=America/New_York:20260510T090000
DESCRIPTION:Где смотреть Тускер – Bidco United в тур
 нире Kenyan Premier League. Прямая трансляция и тел
 епрограмма.\nhttps://streamradar.soccer/ru/match/5611456/tusker-v
 s-bidco-united/
URL;VALUE=URI:https://streamradar.soccer/ru/match/5611456/tusker-vs-bidco-u
 nited/
STATUS:CONFIRMED
END:VEVENT
END:VCALENDAR
