BEGIN:VCALENDAR
VERSION:2.0
PRODID:-//StreamRadar//Match Calendar//EN
CALSCALE:GREGORIAN
METHOD:PUBLISH
X-WR-CALNAME:Posta Rangers vs Sofapaka
X-WR-TIMEZONE:America/New_York
BEGIN:VEVENT
UID:match-5611455@streamradar.soccer
SUMMARY:Posta Rangers vs Sofapaka
DTSTAMP:20260421T035716Z
DTSTART;TZID=America/New_York:20260510T060000
DTEND;TZID=America/New_York:20260510T080000
DESCRIPTION:Где смотреть Поста Рейнджерз – Со
 апака в турнире Kenyan Premier League. Прямая тран
 ляция и телепрограмма.\nhttps://streamradar.soccer/ru/m
 atch/5611455/posta-rangers-vs-sofapaka/
URL;VALUE=URI:https://streamradar.soccer/ru/match/5611455/posta-rangers-vs-
 sofapaka/
STATUS:CONFIRMED
END:VEVENT
END:VCALENDAR
