BEGIN:VCALENDAR
VERSION:2.0
PRODID:-//StreamRadar//Match Calendar//EN
CALSCALE:GREGORIAN
METHOD:PUBLISH
X-WR-CALNAME:Mathare United vs APS Bomet
X-WR-TIMEZONE:America/New_York
BEGIN:VEVENT
UID:match-5611450@streamradar.soccer
SUMMARY:Mathare United vs APS Bomet
DTSTAMP:20260421T040844Z
DTSTART;TZID=America/New_York:20260509T060000
DTEND;TZID=America/New_York:20260509T080000
DESCRIPTION:Где смотреть Матар Юнайтед – APS Bomet
  в турнире Kenyan Premier League. Прямая трансляция
  и телепрограмма.\nhttps://streamradar.soccer/ru/match/561145
 0/mathare-united-vs-aps-bomet/
URL;VALUE=URI:https://streamradar.soccer/ru/match/5611450/mathare-united-vs
 -aps-bomet/
STATUS:CONFIRMED
END:VEVENT
END:VCALENDAR
