BEGIN:VCALENDAR
VERSION:2.0
PRODID:-//StreamRadar//Match Calendar//EN
CALSCALE:GREGORIAN
METHOD:PUBLISH
X-WR-CALNAME:Shabana vs Police
X-WR-TIMEZONE:America/New_York
BEGIN:VEVENT
UID:match-5611446@streamradar.soccer
SUMMARY:Shabana vs Police
DTSTAMP:20260420T235239Z
DTSTART;TZID=America/New_York:20260425T080000
DTEND;TZID=America/New_York:20260425T100000
LOCATION:Gusii Stadium (Kisii)
DESCRIPTION:Где смотреть Shabana – Police в турнире Ke
 nyan Premier League. Прямая трансляция и телепрог
 амма.\nhttps://streamradar.soccer/ru/match/5611446/shabana-vs-police/
URL;VALUE=URI:https://streamradar.soccer/ru/match/5611446/shabana-vs-police
 /
STATUS:CONFIRMED
END:VEVENT
END:VCALENDAR
