BEGIN:VCALENDAR
VERSION:2.0
PRODID:-//StreamRadar//Match Calendar//EN
CALSCALE:GREGORIAN
METHOD:PUBLISH
X-WR-CALNAME:Kariobangi Sharks vs Murang'a SEAL
X-WR-TIMEZONE:America/New_York
BEGIN:VEVENT
UID:match-5611444@streamradar.soccer
SUMMARY:Kariobangi Sharks vs Murang'a SEAL
DTSTAMP:20260421T042146Z
DTSTART;TZID=America/New_York:20260425T080000
DTEND;TZID=America/New_York:20260425T100000
LOCATION:Kasarani Annex Stadium (Nairobi)
DESCRIPTION:Где смотреть Kariobangi Sharks – Murang'a SEAL в 
 турнире Kenyan Premier League. Прямая трансляция и 
 телепрограмма.\nhttps://streamradar.soccer/ru/match/5611444/ka
 riobangi-sharks-vs-muranga-seal/
URL;VALUE=URI:https://streamradar.soccer/ru/match/5611444/kariobangi-sharks
 -vs-muranga-seal/
STATUS:CONFIRMED
END:VEVENT
END:VCALENDAR
