BEGIN:VCALENDAR
VERSION:2.0
PRODID:-//StreamRadar//Match Calendar//EN
CALSCALE:GREGORIAN
METHOD:PUBLISH
X-WR-CALNAME:Nairobi Utd vs Tusker
X-WR-TIMEZONE:America/New_York
BEGIN:VEVENT
UID:match-5611440@streamradar.soccer
SUMMARY:Nairobi Utd vs Tusker
DTSTAMP:20260421T042207Z
DTSTART;TZID=America/New_York:20260503T090000
DTEND;TZID=America/New_York:20260503T110000
DESCRIPTION:Где смотреть Nairobi Utd – Тускер в тур
 ире Kenyan Premier League. Прямая трансляция и тел
 программа.\nhttps://streamradar.soccer/ru/match/5611440/nairobi-u
 td-vs-tusker/
URL;VALUE=URI:https://streamradar.soccer/ru/match/5611440/nairobi-utd-vs-tu
 sker/
STATUS:CONFIRMED
END:VEVENT
END:VCALENDAR
