BEGIN:VCALENDAR
VERSION:2.0
PRODID:-//StreamRadar//Match Calendar//EN
CALSCALE:GREGORIAN
METHOD:PUBLISH
X-WR-CALNAME:Progresul Spartac vs Dunarea Giurgiu
X-WR-TIMEZONE:America/New_York
BEGIN:VEVENT
UID:match-5610835@streamradar.soccer
SUMMARY:Progresul Spartac vs Dunarea Giurgiu
DTSTAMP:20260421T062146Z
DTSTART;TZID=America/New_York:20260509T110000
DTEND;TZID=America/New_York:20260509T130000
DESCRIPTION:Где смотреть Progresul Spartac – Dunarea Giurgiu 
  турнире Румыния - Liga III. Прямая трансляци
 я и телепрограмма.\nhttps://streamradar.soccer/ru/match/5610
 835/progresul-spartac-vs-dunarea-giurgiu/
URL;VALUE=URI:https://streamradar.soccer/ru/match/5610835/progresul-spartac
 -vs-dunarea-giurgiu/
STATUS:CONFIRMED
END:VEVENT
END:VCALENDAR
