BEGIN:VCALENDAR
VERSION:2.0
PRODID:-//StreamRadar//Match Calendar//EN
CALSCALE:GREGORIAN
METHOD:PUBLISH
X-WR-CALNAME:Valenii De Munte vs Mogosoaia
X-WR-TIMEZONE:America/New_York
BEGIN:VEVENT
UID:match-5610833@streamradar.soccer
SUMMARY:Valenii De Munte vs Mogosoaia
DTSTAMP:20260421T062850Z
DTSTART;TZID=America/New_York:20260509T110000
DTEND;TZID=America/New_York:20260509T130000
DESCRIPTION:Где смотреть Valenii De Munte – Mogosoaia в ту
 нире Румыния - Liga III. Прямая трансляция и 
 елепрограмма.\nhttps://streamradar.soccer/ru/match/5610833/val
 enii-de-munte-vs-mogosoaia/
URL;VALUE=URI:https://streamradar.soccer/ru/match/5610833/valenii-de-munte-
 vs-mogosoaia/
STATUS:CONFIRMED
END:VEVENT
END:VCALENDAR
