BEGIN:VCALENDAR
VERSION:2.0
PRODID:-//StreamRadar//Match Calendar//EN
CALSCALE:GREGORIAN
METHOD:PUBLISH
X-WR-CALNAME:Urban Titu vs Kids Tâmpa Braşov
X-WR-TIMEZONE:America/New_York
BEGIN:VEVENT
UID:match-5610832@streamradar.soccer
SUMMARY:Urban Titu vs Kids Tâmpa Braşov
DTSTAMP:20260421T105008Z
DTSTART;TZID=America/New_York:20260509T110000
DTEND;TZID=America/New_York:20260509T130000
DESCRIPTION:Где смотреть Urban Titu – Kids Tâmpa Braşov в 
 урнире Румыния - Liga III. Прямая трансляция 
 и телепрограмма.\nhttps://streamradar.soccer/ru/match/5610832
 /urban-titu-vs-kids-tampa-bra-ov/
URL;VALUE=URI:https://streamradar.soccer/ru/match/5610832/urban-titu-vs-kid
 s-tampa-bra-ov/
STATUS:CONFIRMED
END:VEVENT
END:VCALENDAR
