BEGIN:VCALENDAR
VERSION:2.0
PRODID:-//StreamRadar//Match Calendar//EN
CALSCALE:GREGORIAN
METHOD:PUBLISH
X-WR-CALNAME:Arminia Bielefeld II vs Sprockhövel
X-WR-TIMEZONE:America/New_York
BEGIN:VEVENT
UID:match-5610751@streamradar.soccer
SUMMARY:Arminia Bielefeld II vs Sprockhövel
DTSTAMP:20260421T092351Z
DTSTART;TZID=America/New_York:20260506T133000
DTEND;TZID=America/New_York:20260506T153000
DESCRIPTION:Где смотреть Arminia Bielefeld II – Sprockhövel 
  турнире Германия - Оберлига. Прямая тран
 сляция и телепрограмма.\nhttps://streamradar.soccer/ru/
 match/5610751/arminia-bielefeld-ii-vs-sprockhovel/
URL;VALUE=URI:https://streamradar.soccer/ru/match/5610751/arminia-bielefeld
 -ii-vs-sprockhovel/
STATUS:CONFIRMED
END:VEVENT
END:VCALENDAR
