BEGIN:VCALENDAR
VERSION:2.0
PRODID:-//StreamRadar//Match Calendar//EN
CALSCALE:GREGORIAN
METHOD:PUBLISH
X-WR-CALNAME:Portuguesa RJ vs Água Santa
X-WR-TIMEZONE:America/New_York
BEGIN:VEVENT
UID:match-5610734@streamradar.soccer
SUMMARY:Portuguesa RJ vs Água Santa
DTSTAMP:20260421T063543Z
DTSTART;TZID=America/New_York:20260509T160000
DTEND;TZID=America/New_York:20260509T180000
LOCATION:Estadio Luso Brasileiro
DESCRIPTION:Где смотреть Portuguesa RJ – Água Santa в тур
 нире Бразилия - Serie D. Прямая трансляция и 
 елепрограмма.\nhttps://streamradar.soccer/ru/match/5610734/por
 tuguesa-rj-vs-agua-santa/
URL;VALUE=URI:https://streamradar.soccer/ru/match/5610734/portuguesa-rj-vs-
 agua-santa/
STATUS:CONFIRMED
END:VEVENT
END:VCALENDAR
