BEGIN:VCALENDAR
VERSION:2.0
PRODID:-//StreamRadar//Match Calendar//EN
CALSCALE:GREGORIAN
METHOD:PUBLISH
X-WR-CALNAME:Maricá vs Noroeste
X-WR-TIMEZONE:America/New_York
BEGIN:VEVENT
UID:match-5610728@streamradar.soccer
SUMMARY:Maricá vs Noroeste
DTSTAMP:20260421T062357Z
DTSTART;TZID=America/New_York:20260509T160000
DTEND;TZID=America/New_York:20260509T180000
DESCRIPTION:Где смотреть Maricá – Noroeste в турнире 
 Бразилия - Serie D. Прямая трансляция и телеп
 рограмма.\nhttps://streamradar.soccer/ru/match/5610728/marica-vs-no
 roeste/
URL;VALUE=URI:https://streamradar.soccer/ru/match/5610728/marica-vs-noroest
 e/
STATUS:CONFIRMED
END:VEVENT
END:VCALENDAR
