BEGIN:VCALENDAR
VERSION:2.0
PRODID:-//StreamRadar//Match Calendar//EN
CALSCALE:GREGORIAN
METHOD:PUBLISH
X-WR-CALNAME:Manaus vs Monte Roraima
X-WR-TIMEZONE:America/New_York
BEGIN:VEVENT
UID:match-5610725@streamradar.soccer
SUMMARY:Manaus vs Monte Roraima
DTSTAMP:20260421T062054Z
DTSTART;TZID=America/New_York:20260509T160000
DTEND;TZID=America/New_York:20260509T180000
LOCATION:Arena da Amazonia
DESCRIPTION:Где смотреть Manaus – Monte Roraima в турни
 е Бразилия - Serie D. Прямая трансляция и тел
 епрограмма.\nhttps://streamradar.soccer/ru/match/5610725/manaus-v
 s-monte-roraima/
URL;VALUE=URI:https://streamradar.soccer/ru/match/5610725/manaus-vs-monte-r
 oraima/
STATUS:CONFIRMED
END:VEVENT
END:VCALENDAR
