BEGIN:VCALENDAR
VERSION:2.0
PRODID:-//StreamRadar//Match Calendar//EN
CALSCALE:GREGORIAN
METHOD:PUBLISH
X-WR-CALNAME:Maguary PE vs América RN
X-WR-TIMEZONE:America/New_York
BEGIN:VEVENT
UID:match-5610723@streamradar.soccer
SUMMARY:Maguary PE vs América RN
DTSTAMP:20260421T080649Z
DTSTART;TZID=America/New_York:20260509T160000
DTEND;TZID=America/New_York:20260509T180000
DESCRIPTION:Где смотреть Maguary PE – América RN в турн
 ре Бразилия - Serie D. Прямая трансляция и те
 лепрограмма.\nhttps://streamradar.soccer/ru/match/5610723/maguar
 y-pe-vs-america-rn/
URL;VALUE=URI:https://streamradar.soccer/ru/match/5610723/maguary-pe-vs-ame
 rica-rn/
STATUS:CONFIRMED
END:VEVENT
END:VCALENDAR
