BEGIN:VCALENDAR
VERSION:2.0
PRODID:-//StreamRadar//Match Calendar//EN
CALSCALE:GREGORIAN
METHOD:PUBLISH
X-WR-CALNAME:IAPE vs Parnahyba
X-WR-TIMEZONE:America/New_York
BEGIN:VEVENT
UID:match-5610713@streamradar.soccer
SUMMARY:IAPE vs Parnahyba
DTSTAMP:20260421T062953Z
DTSTART;TZID=America/New_York:20260509T160000
DTEND;TZID=America/New_York:20260509T180000
DESCRIPTION:Где смотреть IAPE – Parnahyba в турнире Б
 разилия - Serie D. Прямая трансляция и телепр
 ограмма.\nhttps://streamradar.soccer/ru/match/5610713/iape-vs-parnah
 yba/
URL;VALUE=URI:https://streamradar.soccer/ru/match/5610713/iape-vs-parnahyba
 /
STATUS:CONFIRMED
END:VEVENT
END:VCALENDAR
