BEGIN:VCALENDAR
VERSION:2.0
PRODID:-//StreamRadar//Match Calendar//EN
CALSCALE:GREGORIAN
METHOD:PUBLISH
X-WR-CALNAME:Ceilândia vs CEOV Operário
X-WR-TIMEZONE:America/New_York
BEGIN:VEVENT
UID:match-5610705@streamradar.soccer
SUMMARY:Ceilândia vs CEOV Operário
DTSTAMP:20260421T063014Z
DTSTART;TZID=America/New_York:20260509T160000
DTEND;TZID=America/New_York:20260509T180000
DESCRIPTION:Где смотреть Ceilândia – CEOV Operário в тур
 нире Бразилия - Serie D. Прямая трансляция и 
 елепрограмма.\nhttps://streamradar.soccer/ru/match/5610705/cei
 landia-vs-ceov-operario/
URL;VALUE=URI:https://streamradar.soccer/ru/match/5610705/ceilandia-vs-ceov
 -operario/
STATUS:CONFIRMED
END:VEVENT
END:VCALENDAR
