BEGIN:VCALENDAR
VERSION:2.0
PRODID:-//StreamRadar//Match Calendar//EN
CALSCALE:GREGORIAN
METHOD:PUBLISH
X-WR-CALNAME:Milazzo vs Vigor Lamezia
X-WR-TIMEZONE:America/New_York
BEGIN:VEVENT
UID:match-5610684@streamradar.soccer
SUMMARY:Milazzo vs Vigor Lamezia
DTSTAMP:20260421T152156Z
DTSTART;TZID=America/New_York:20260415T090000
DTEND;TZID=America/New_York:20260415T110000
LOCATION:Stadio Grotta Polifemo (Milazzo)
DESCRIPTION:Где смотреть Milazzo – Vigor Lamezia в турни
 ре Италия - Serie D. Прямая трансляция и теле
 рограмма.\nhttps://streamradar.soccer/ru/match/5610684/milazzo-vs-
 vigor-lamezia/
URL;VALUE=URI:https://streamradar.soccer/ru/match/5610684/milazzo-vs-vigor-
 lamezia/
STATUS:CONFIRMED
END:VEVENT
END:VCALENDAR
