BEGIN:VCALENDAR
VERSION:2.0
PRODID:-//StreamRadar//Match Calendar//EN
CALSCALE:GREGORIAN
METHOD:PUBLISH
X-WR-CALNAME:Bayreuth vs Nürnberg II
X-WR-TIMEZONE:America/New_York
BEGIN:VEVENT
UID:match-5610681@streamradar.soccer
SUMMARY:Bayreuth vs Nürnberg II
DTSTAMP:20260421T033617Z
DTSTART;TZID=America/New_York:20260509T080000
DTEND;TZID=America/New_York:20260509T100000
DESCRIPTION:Где смотреть Байройт – Нюрнберг II 
 в турнире Германия - Региональная лига. П
 ямая трансляция и телепрограмма.\nhttps://stre
 amradar.soccer/ru/match/5610681/bayreuth-vs-n-rnberg-ii/
URL;VALUE=URI:https://streamradar.soccer/ru/match/5610681/bayreuth-vs-n-rnb
 erg-ii/
STATUS:CONFIRMED
END:VEVENT
END:VCALENDAR
