BEGIN:VCALENDAR
VERSION:2.0
PRODID:-//StreamRadar//Match Calendar//EN
CALSCALE:GREGORIAN
METHOD:PUBLISH
X-WR-CALNAME:Atromitos vs Panaitolikos
X-WR-TIMEZONE:America/New_York
BEGIN:VEVENT
UID:match-5610653@streamradar.soccer
SUMMARY:Atromitos vs Panaitolikos
DTSTAMP:20260421T063013Z
DTSTART;TZID=America/New_York:20260509T123000
DTEND;TZID=America/New_York:20260509T143000
LOCATION:Peristeri Stadium
DESCRIPTION:Где смотреть Атромитос – Панаитол
 икос в турнире Греция - Суперлига Греции. 
 Прямая трансляция и телепрограмма.\nhttps://s
 treamradar.soccer/ru/match/5610653/atromitos-vs-panaitolikos/
URL;VALUE=URI:https://streamradar.soccer/ru/match/5610653/atromitos-vs-pana
 itolikos/
STATUS:CONFIRMED
END:VEVENT
END:VCALENDAR
