BEGIN:VCALENDAR
VERSION:2.0
PRODID:-//StreamRadar//Match Calendar//EN
CALSCALE:GREGORIAN
METHOD:PUBLISH
X-WR-CALNAME:Motherwell vs Hearts
X-WR-TIMEZONE:America/New_York
BEGIN:VEVENT
UID:match-5610650@streamradar.soccer
SUMMARY:Motherwell vs Hearts
DTSTAMP:20260421T062357Z
DTSTART;TZID=America/New_York:20260509T150000
DTEND;TZID=America/New_York:20260509T170000
LOCATION:Fir Park
DESCRIPTION:Где смотреть Мотеруэлл – Хартс в т
 урнире Шотландская Премьер-лига. Прямая 
 рансляция и телепрограмма.\nhttps://streamradar.soc
 cer/ru/match/5610650/motherwell-vs-hearts/
URL;VALUE=URI:https://streamradar.soccer/ru/match/5610650/motherwell-vs-hea
 rts/
STATUS:CONFIRMED
END:VEVENT
END:VCALENDAR
