BEGIN:VCALENDAR
VERSION:2.0
PRODID:-//StreamRadar//Match Calendar//EN
CALSCALE:GREGORIAN
METHOD:PUBLISH
X-WR-CALNAME:ACS Mediaş 2022 vs Unirea Bascov
X-WR-TIMEZONE:America/New_York
BEGIN:VEVENT
UID:match-5610132@streamradar.soccer
SUMMARY:ACS Mediaş 2022 vs Unirea Bascov
DTSTAMP:20260421T104452Z
DTSTART;TZID=America/New_York:20260508T110000
DTEND;TZID=America/New_York:20260508T130000
DESCRIPTION:Где смотреть ACS Mediaş 2022 – Unirea Bascov в 
 урнире Румыния - Liga III. Прямая трансляция 
 и телепрограмма.\nhttps://streamradar.soccer/ru/match/5610132
 /acs-media-2022-vs-unirea-bascov/
URL;VALUE=URI:https://streamradar.soccer/ru/match/5610132/acs-media-2022-vs
 -unirea-bascov/
STATUS:CONFIRMED
END:VEVENT
END:VCALENDAR
