BEGIN:VCALENDAR
VERSION:2.0
PRODID:-//StreamRadar//Match Calendar//EN
CALSCALE:GREGORIAN
METHOD:PUBLISH
X-WR-CALNAME:FC Bacau 2 vs Adjud
X-WR-TIMEZONE:America/New_York
BEGIN:VEVENT
UID:match-5610126@streamradar.soccer
SUMMARY:FC Bacau 2 vs Adjud
DTSTAMP:20260421T092908Z
DTSTART;TZID=America/New_York:20260508T110000
DTEND;TZID=America/New_York:20260508T130000
DESCRIPTION:Где смотреть FC Bacau 2 – Adjud в турнире 
 Румыния - Liga III. Прямая трансляция и телеп
 ограмма.\nhttps://streamradar.soccer/ru/match/5610126/fc-bacau-2-vs
 -adjud/
URL;VALUE=URI:https://streamradar.soccer/ru/match/5610126/fc-bacau-2-vs-adj
 ud/
STATUS:CONFIRMED
END:VEVENT
END:VCALENDAR
