BEGIN:VCALENDAR
VERSION:2.0
PRODID:-//StreamRadar//Match Calendar//EN
CALSCALE:GREGORIAN
METHOD:PUBLISH
X-WR-CALNAME:BDF XI vs Sua Flamingoes
X-WR-TIMEZONE:America/New_York
BEGIN:VEVENT
UID:match-5610052@streamradar.soccer
SUMMARY:BDF XI vs Sua Flamingoes
DTSTAMP:20260421T162745Z
DTSTART;TZID=America/New_York:20260411T093000
DTEND;TZID=America/New_York:20260411T113000
LOCATION:SSKB-Stadium (Gaborone)
DESCRIPTION:Где смотреть BDF XI – Sua Flamingoes в турни
 ре Ботсвана - Premier League. Прямая трансляция 
  телепрограмма.\nhttps://streamradar.soccer/ru/match/5610052/
 bdf-xi-vs-sua-flamingoes/
URL;VALUE=URI:https://streamradar.soccer/ru/match/5610052/bdf-xi-vs-sua-fla
 mingoes/
STATUS:CONFIRMED
END:VEVENT
END:VCALENDAR
