BEGIN:VCALENDAR
VERSION:2.0
PRODID:-//StreamRadar//Match Calendar//EN
CALSCALE:GREGORIAN
METHOD:PUBLISH
X-WR-CALNAME:Kilmarnock vs Dundee United
X-WR-TIMEZONE:America/New_York
BEGIN:VEVENT
UID:match-5609394@streamradar.soccer
SUMMARY:Kilmarnock vs Dundee United
DTSTAMP:20260421T080709Z
DTSTART;TZID=America/New_York:20260502T100000
DTEND;TZID=America/New_York:20260502T120000
LOCATION:Rugby Park
DESCRIPTION:Где смотреть Килмарнок – Данди Юн
 йтед в турнире Шотландская Премьер-лига.
  Прямая трансляция и телепрограмма.\nhttps://
 streamradar.soccer/ru/match/5609394/kilmarnock-vs-dundee-united/
URL;VALUE=URI:https://streamradar.soccer/ru/match/5609394/kilmarnock-vs-dun
 dee-united/
STATUS:CONFIRMED
END:VEVENT
END:VCALENDAR
