BEGIN:VCALENDAR
VERSION:2.0
PRODID:-//StreamRadar//Match Calendar//EN
CALSCALE:GREGORIAN
METHOD:PUBLISH
X-WR-CALNAME:Loubha Télimélé vs RCC Kamsar
X-WR-TIMEZONE:America/New_York
BEGIN:VEVENT
UID:match-5609039@streamradar.soccer
SUMMARY:Loubha Télimélé vs RCC Kamsar
DTSTAMP:20260421T204208Z
DTSTART;TZID=America/New_York:20260408T120000
DTEND;TZID=America/New_York:20260408T140000
LOCATION:Stade Fodé Fissa (Kindia)
DESCRIPTION:Где смотреть Loubha Télimélé – RCC Kamsar в т
 урнире Гвинея - Ligue 1. Прямая трансляция и 
 елепрограмма.\nhttps://streamradar.soccer/ru/match/5609039/lou
 bha-telimele-vs-rcc-kamsar/
URL;VALUE=URI:https://streamradar.soccer/ru/match/5609039/loubha-telimele-v
 s-rcc-kamsar/
STATUS:CONFIRMED
END:VEVENT
END:VCALENDAR
